BEGIN:VCALENDAR
VERSION:2.0
PRODID:-//Plone.org//NONSGML plone.app.event//EN
X-WR-TIMEZONE:Europe/Amsterdam
BEGIN:VEVENT
SUMMARY:NIPV Fire Safety & Science Congress
DTSTART;TZID=Europe/Amsterdam:20250604T090000
DTEND;TZID=Europe/Amsterdam:20250605T170000
DTSTAMP:20260422T121538Z
UID:89339b1deb784bfab24dbd117a91324a@127.0.0.1:8080
CREATED:20250223T104945Z
DESCRIPTION:17th International Congress Fire Safety & Science 2025
LAST-MODIFIED:20250224T113020Z
LOCATION:NIPV - Arnhem
URL:https://plone.test.aertes.com/events/nipv-fire-safety-science-congress
END:VEVENT
BEGIN:VTIMEZONE
TZID:Europe/Amsterdam
X-LIC-LOCATION:Europe/Amsterdam
BEGIN:DAYLIGHT
DTSTART:20250330T030000
TZNAME:CEST
TZOFFSETFROM:+0100
TZOFFSETTO:+0200
END:DAYLIGHT
END:VTIMEZONE
END:VCALENDAR
